BEGIN:VCALENDAR
VERSION:2.0
PRODID:-//http://www.gutshof-lindstedt.de///NONSGML kigkonsult.se iCalcreator 2.10.15//
METHOD:PUBLISH
BEGIN:VEVENT
UID:20260419T183325CEST-0831kk1HPK@http://www.gutshof-lindstedt.de/
DTSTAMP:20260419T163325Z
DESCRIPTION:Hiermit laden wir Sie herzlich zu einem spannenden Vortrag ein\
 , in dem Ulf Frommhagen Ihnen viel Wissenswertes über die Geschichte des G
 utes Lindstedt in der Altmark berichten wird.&nbsp\;Die Geschichte des Gut
 es Lindstedt musste durch jahrelange minuziöse Forschungen Stück für Stück
  neu ergründet werden\, denn das Gutsarchiv ging in den Wirren des zweiten
  Weltkrieges verloren. So war es erforderlich die einzelnen Puzzleteile de
 r Gutsgeschichte mühsam in unterschiedlichsten Quellen zu identifizieren\,
  um daraus schrittweise ein möglichst vollständiges und durchgängiges Gesa
 mtbild zusammensetzen zu können.Über mehrere Jahre hinweg recherchiere der
  gebürtige Lindstedter und heute im Nachbarort Seethen lebende Ulf Frommha
 gen beharrlich in zahlreichen Archiven\, wälzte unzählige Bücher\, unterna
 hm dendrochronologische Untersuchungen an den denkmalgeschützten Gebäude\,
  initiierte archäologische Ausgrabungen auf dem Gutsareal - und - und - un
 d. Das alles mit dem Ziel\, endlich wieder eine möglichst detaillierte und
  vollständige Chronologie zum Gut Lindstedt vorliegen zu haben.Auch heute 
 ist die Erforschung der Gutsgeschichte für Frommhagen noch nicht abgeschlo
 ssen\, denn stetig kommen neue Erkenntnisse hinzu. Seine Forschung hat jed
 och bis dato einen Stand erreicht\, der es erstmals wieder erlaubt\, ein r
 elativ umfassendes Bild von der Historie des Gutes vom Mittelalter bis in 
 die Neuzeit zu zeichnen.&nbsp\;Nach dem Vortrag laden wir Interessierte ge
 rne dazu zu einem gemütlichen Abend und geselligen Austausch im&nbsp\;#Gut
 shaus1704&nbsp\;ein.Anmeldung und Teilnahmegebühren:Wir bitten freundlich 
 um eine vorherige Anmeldung zur Teilnahme\, um die erforderlichen Kapazitä
 ten besser planen zu können.Der Teilnahme ist kostenfrei! Wir freuen uns j
 edoch immer über eine Spende zur Unterstützung unserer Arbeit\, d.h. unter
  anderem zur Erhaltung und Weiterentwicklung des Gutshofes Lindstedt.Konta
 ktdaten zur Anmeldung zur Veranstaltung:+ E-Mail: post@gutshof-lindstedt.d
 e http://www.gutshof-lindstedt.de/index.php/component/rseventspro/event/31
 4-vortrag-die-geschichte-des-rittergutes-lindstedt-in-der-altmark?Itemid=1
 01
DTSTART:20190119T150000Z
DTEND:20190119T173000Z
LOCATION:Gutshof Lindstedt (Zum Lindengut 77 \, Gardelegen \, Germany)
SUMMARY:Vortrag: Die Geschichte des Rittergutes Lindstedt in der Altmark
URL:http://www.gutshof-lindstedt.de/index.php/component/rseventspro/event/3
 14-vortrag-die-geschichte-des-rittergutes-lindstedt-in-der-altmark?Itemid=
 101
END:VEVENT
END:VCALENDAR
