BEGIN:VCALENDAR
VERSION:2.0
PRODID:-//http://www.gutshof-lindstedt.de///NONSGML kigkonsult.se iCalcreator 2.10.15//
METHOD:PUBLISH
BEGIN:VEVENT
UID:20260419T183629CEST-5326EuLKmr@http://www.gutshof-lindstedt.de/
DTSTAMP:20260419T163629Z
DESCRIPTION:Wir laden Sie herzlich zu einer historischen Reise durch die al
 te 'Regio Balsamorum' mit Ulf Frommhagen (Bauforscher und Historiker) und 
 Mathis Schubert (Restaurator) ein.\nEs erwartet Sie eine siedlungsgeografi
 sche\, kunstgeschichtliche und bauarchäologische Exkursion durch die alte 
 'Regio Balsamorum'\, d.h. in das Mittelalter der heutigen östliche Altmark
  - das Gebiet zwischen der Elbe\, dem Tanger und dem Milde-Biese-Aland-Flu
 sssystem. Im Rahmen der Exkursion werden ausgesuchte Sakralbauten\, Landwe
 hren\, Herrensitze und Befestigungsanlagen aus der Zeit des mittelalterlic
 hen Landesausbaus vor Ort besucht und innerhalb von Führungen besichtigt u
 nd näher vorgestellt. Seien Sie gespant auf Einblicke in Bauwerke und ihre
  Geschichte\, die ihnen bei einen 'normalen' Besuch oftmals nicht gewährt 
 werden.\n+++ ABLAUF +++9:00 Uhr - Start der Exkursion auf dem Gutshof Lind
 stedtca. 18:00 Uhr - Rückkehr zum Gutshof / VerabschiedungOPTIONAL: ab 18:
 00 Uhr - Geselliger Austausch und Abendveranstaltung im #Gutshaus1704\n+++
  ANMELDUNG +++Anmeldeschluss ist der 22.05.2019. Die Teilnehmeranzahl ist 
 begrenzt.Zur Teilnahme ist eine vorherige Anmeldung erforderliche: -per E-
 Mail (post@region-lindstedt.de) \n+++ UNKOSTENBEITRAG &amp\; VORAUSSETZUNG
 EN +++Für die Teilnahme ist eine vorherige Anmeldung erforderlich. Für die
  Teilnahme ist ein Unkostenbeitrag von 5\,00 € zu entrichten. Für Kinder/J
 ugendliche/junge Erwachsene bis 25 Jahre ist die Teilnahme kostenfrei.Die 
 Teilnahme erfolgt unter Benutzung des eigenen PKW's. Vorzugsweise können b
 eim Start der Exkursion auf dem Gutshof Lindstedt Fahrgemeinschaften gebil
 det werden.Bei Rückfragen und für weitere Informationen können Sie uns ebe
 nfalls entsprechend kontaktieren.\n+ + + P R O G R A M M + + + Auf der Tag
 esexkursion werden wir mit Ihnen die unten gelisteten Orte und Objekte bes
 uchen. Seien Sie gespant auf Einblicke in die Bauwerke und ihre Geschichte
 \, die ihnen bei einen 'normalen' Besuch nicht gewährt werden.+ Kirche Alt
 mersleben\, + Kalbe (Burg)\, + Kirchen in Poritz\, Bismark und Büste\, + L
 andwehr Deetzer Warthe\, + Kirche in Kläden\, + Landwehr Kröpelwarthe bei 
 Vollenschier\, + Kirche in Groß Möringen\, + Kirche in Buchholz und + die 
 Burg Tangermünde\n#Workshops77 #Landleben #Altmark #Denkmalschutz #Denkmal
 pflege http://www.gutshof-lindstedt.de/index.php/component/rseventspro/eve
 nt/315-historische-altmarkexkursion-eine-reise-in-die-regio-balsamorum?Ite
 mid=101
DTSTART:20190525T090000Z
DTEND:20190525T180000Z
LOCATION:'Regio Balsamorum' alias Östliche Altmark ()
SUMMARY:Historische Altmarkexkursion: Eine Reise in die Regio Balsamorum
URL:http://www.gutshof-lindstedt.de/index.php/component/rseventspro/event/3
 15-historische-altmarkexkursion-eine-reise-in-die-regio-balsamorum?Itemid=
 101
END:VEVENT
END:VCALENDAR
