BEGIN:VCALENDAR
VERSION:2.0
PRODID:-//http://www.gutshof-lindstedt.de///NONSGML kigkonsult.se iCalcreator 2.10.15//
METHOD:PUBLISH
BEGIN:VEVENT
UID:20260419T184037CEST-7541Ng0p95@http://www.gutshof-lindstedt.de/
DTSTAMP:20260419T164037Z
DESCRIPTION:Verschenken Sie doch an ihre Lieben oder guten Freunde zu ◦W◦E◦
 I◦H◦N◦A◦C◦H◦T◦E◦N◦ einen ◦G◦U◦T◦S◦C◦H◦E◦I◦N◦ für die Teilnahme an diesem W
 orkshop. Wir senden Ihnen diesen gerne zu.\nAuch wenn sich die Welt noch i
 n Eis und Schnee hüllt - wir können den Frühling kaum erwarten. In dem Wor
 kshop kreieren Sie unter Anleitung ihr individuelles winterliches Ensemble
  - als Tischdekoration oder als Türkranz - dass den nahenden Frühling scho
 n erahnen lässt. Sie lernen das Verarbeiten von Naturmaterialien\, das ang
 esagte 'Waxen' von Blumenzwiebeln und das Zusammenstellen einer wunderschö
 nen kleinen Landschaft aus Ästen und Zweigen. Und das Ganze machen wir gem
 einsam in gemütlicher Atmosphäre im Gutshaus Lindstedt inkl. #Gutskaffee17
 04 oder Tee\, #GutsApfesaft6068 etc. und einem leckeren Mittagsimbiss.\n+ 
 + + TEILNEHMERGEBÜHR / KOSTEN + + + Die Teilnehmergebühr beträgt für Erwac
 hsene: 29 € und für Kinder/Jugendliche bis 18 Jahre: 15 €. Der Workshop is
 t für Kinder ab 10 Jahre geeignet.In den Teilnehmergebühren sind die Koste
 n für die Grundmaterialien (Kranz\, Steckmasse\, Moos &amp\; Reisig\, Drah
 t\, Kleber etc.) sowie Getränke und kleiner Imbiß enthalten.# Hinweis: Zus
 ätzlich zu den Teilnehmergebühren fallen noch je nach Bedarf Kosten für De
 komaterialien an. Diese werden individuell nach dem tatsächlichen Verbrauc
 h ermittelt und sind dann vor Ort zu entrichten.*** WICHTIG/TIPP ***: Wer 
 Kosten sparen möchte\, kann auch sehr gerne eigene Materialien zur Dekorat
 ion des&nbsp\;Arrangements oder Kranzes mitbringen.\n+ + + ANMELDUNG / GUT
 SCHEIN + + + (Anmeldeschluss ist der 19.01.2019) Zur Teilnahme ist eine vo
 rherige verbindliche Anmeldung oder der Kauf eines Gutscheins erforderlich
 ! Sie können sich per Email (post@gutshof-lindstedt.de) anmelden bzw. eine
 n Gutschein für die Teilnahme bestellen.\nNach der Anmeldung oder Bestellu
 ng eines Gutscheins erhalten sie eine Anmeldebestätigung nebst Rechnung. B
 ei Bestellung eines Gutscheins übersenden wir Ihnen mit der Anmeldebestäti
 gung zusätzlich einen Gutschein in Form einer Eintrittskarte für den Works
 hop. Für den Versand des Gutscheines fallen zusätzlich 1\,50 € für Porto u
 nd Verpackung an. Der auf der Anmeldebestätigung bzw. Rechnung angegebene 
 Betrag überweisen Sie bitte auf das folgende Konto:Kontoinhaber: Förderver
 ein 'Historische Region Lindstedt' e.V.Bank: Sparkasse Altmark WestIBAN: D
 E45 8105 5555 3031 0122 23 Zweck: &lt\;Rechnungsnummer&gt\;\, Vorfrühlings
 .Zauber\n+ + + FRAGEN + + +Sollten Sie Fragen zu dem Workshop haben\, könn
 en Sie uns gerne via Email (post@gutshof-lindstedt.de) kontaktieren. Wir b
 eantworten ihre Fragen sehr gern.\n#Workshops77 #Adventskranz #Adventskrän
 ze #Floristik #Deko #Landleben #Gutshof #Altmark #Lindstedt #Gardelegen\n&
 nbsp\;\n&nbsp\; http://www.gutshof-lindstedt.de/index.php/component/rseven
 tspro/event/316-vorfruehlings-zauber-kreativ-im-gutshaus1704?Itemid=101
DTSTART:20190126T100000Z
DTEND:20190126T130000Z
LOCATION:Gutshof Lindstedt (Zum Lindengut 77 \, Gardelegen \, Germany)
SUMMARY:Vorfrühlings.Zauber - Kreativ im Gutshaus1704
URL:http://www.gutshof-lindstedt.de/index.php/component/rseventspro/event/3
 16-vorfruehlings-zauber-kreativ-im-gutshaus1704?Itemid=101
END:VEVENT
END:VCALENDAR
