BEGIN:VCALENDAR
VERSION:2.0
PRODID:-//http://www.gutshof-lindstedt.de///NONSGML kigkonsult.se iCalcreator 2.10.15//
METHOD:PUBLISH
BEGIN:VEVENT
UID:20260419T183025CEST-9458e5PZDl@http://www.gutshof-lindstedt.de/
DTSTAMP:20260419T163025Z
DESCRIPTION:Lindstedter 3D-Bogentunier 'Kellerbusch.Cup'\n# Veranstalter: S
 V Wacker Lindstedt 1912 e.V.# BogenklassenPB\, LBG\, RC\, RB ohne Visier o
 der andere HilfsmittelHolz-\, Carbon- und Alupfeile sind zugelassen\, Jagd
 spitzen sind untersagt# AblaufRegistrierung ab 8:30 Uhr &gt\; Begrüßung 10
 :00 Uhr &gt\; Turnierbeginn ca. 10:30 Uhr &gt\; ca. 16:30 Uhr Siegerehrung
 &nbsp\; &gt\; Geselliges Beisammensein# Weitere Infos• 3D-Turnier auf ca. 
 35 Ziele • abwechslungsreiches Gelände (Wiese\, Wald\, Feld\, Sumpf\, Wass
 er • Entfernungen bis 45 m\, Fernziel 120 m • Parcourslänge ca. 4\,5 km\, 
 wobei der Verpflegungsstand an der Jagdhütte mind. 2x passiert wird • Poka
 le für die 3 Besten jeder Klasse • max. 130 Startplätze • für das leiblich
 e Wohl ist mit Speis und Trank reichlich gesorgt • Anreise mit Wohnwagen m
 öglich • Weitere Schlafmöglichkeiten im&nbsp\;#Gutshaus1704&nbsp\;bei rech
 tzeitiger Anmeldung\, weitere Infos unter: Übernachten im Gutshaus\n# Anme
 ldung | Anmeldeschluss: 29.04.2019bei Ronny Böhm | per Telefon 0162 - 7792
 476&nbsp\; oder via E-Mail: ronny.boehm@arcor.de\nStartgeld• Kinder bis 10
  Jahre: frei• Kinder/Jugendliche 11- 17 Jahre: 7 €• Jugendliche/Erwachsene
  ab 18 Jahre: 15 €\nZahlung/ÜberweisungSV Wacker Lindstedt e.V.IBAN: DE19 
 8105 5555 3030 0032 12BIC: NOLADE21SAWZweck: KellerbuschCup + Namen d. Sch
 ützen\nDie Eintragung in die Starterliste erfolgt erst nach Zahlungseingan
 g auf dem o.a. Konto!Das Vorliegen einer Haftpflichtversicherung ist für j
 eden Schützen verpflichtend. http://www.gutshof-lindstedt.de/index.php/com
 ponent/rseventspro/event/317-lindstedter-3d-bogentunier-kellerbusch-cup?It
 emid=101
DTSTART:20190504T090000Z
DTEND:20190504T180000Z
LOCATION:Kellerbusch ( \, Lindstedt \, Germany)
SUMMARY:Lindstedter 3D-Bogentunier 'Kellerbusch.Cup' 
URL:http://www.gutshof-lindstedt.de/index.php/component/rseventspro/event/3
 17-lindstedter-3d-bogentunier-kellerbusch-cup?Itemid=101
END:VEVENT
END:VCALENDAR
