BEGIN:VCALENDAR
VERSION:2.0
PRODID:-//http://www.gutshof-lindstedt.de///NONSGML kigkonsult.se iCalcreator 2.10.15//
METHOD:PUBLISH
BEGIN:VEVENT
UID:20260419T201006CEST-85122vN8um@http://www.gutshof-lindstedt.de/
DTSTAMP:20260419T181006Z
DESCRIPTION:Im Rahmen des Workshops erlernen Sie die Grundfertigkeiten zur 
 Herstellung von Kränzen und dekorativen Kugeln aus Naturmaterialien. So we
 rden Ihnen zahlreiche Tricks und Kniffe zur Bindetechnik vermittelt. Sie w
 erden erfahren\, wie einfach und genial es ist\, Schnittgut aus dem Garten
  in schöne Dekoration zu verwandeln. Das Ganze natürlich bei und inkl.leck
 erem #Gutskaffee1704 und einen Stück Kuchen. Der Workshop ist für Kinder a
 b 10 Jahre geeignet.Die Teilnehmerzahl ist begrenzt.Der Workshop findet im
  Obergeschoss des #Gutshaus1704 statt.+ + + TEILNEHMERGEBÜHR + + + Die Tei
 lnehmergebühr beträgt für Erwachsene 19 € und für Kinder(Jugendliche) von 
 10 bis 18 Jahre 10 €. Zum Workshop bringen Sie bitte folgendes mit: # eine
 n Eimer oder eine Schüssel (rund) in gewünschter Größe # wenn vorhanden\, 
 Schnittgut (z.B. Zweige) aus dem eigenen Garten sowie\, wenn vorhanden ger
 ne# weitere Materialien zur Dekoration der gebundenen Kugel/ bzw. KranzesZ
 usätzlich biten wir Ihnen die Möglichkeit sich vor Ort Materialien zur Dek
 oration der Kugel oder des Kranzes auszuwählen. Die Kosten für diese Mater
 ialien werden individuell nach dem tatsächlichen Verbrauch ermittelt und s
 ind dann vor Ort zu entrichten.+ + + ANMELDUNG + + + (Anmeldeschluss ist d
 er 04.03.2019) Eine vorherige verbindliche Anmeldung zur Teilnahme ist unb
 edingt erforderlich! Sie können sich per Email (post@gutshof-lindstedt.de)
  anmelden. Nach Ihrer Anmeldung und der Anmeldebestätigung durch uns ist d
 ie Teilnehmergebühr vorzugsweise auf das folgende Konto zu überweisen:Kont
 oinhaber: Förderverein 'Historische Region Lindstedt' e.V.Bank: Sparkasse 
 Altmark WestIBAN: DE45 8105 5555 3031 0122 23 Zweck: &lt\;Name des Teilneh
 mers&gt\;\, Zweig an Zweig+ + + FRAGEN + + +Sollten Sie Fragen zu dem Work
 shop haben\, können Sie uns gerne per Email (post@gutshof-lindstedt.de) ko
 ntaktieren. Wir beantworten ihre Fragen sehr gern. http://www.gutshof-lind
 stedt.de/index.php/component/rseventspro/event/318-zweig-an-zweig-fruehlin
 gskreativ-im-gutshaus1704?Itemid=101
DTSTART:20190310T133000Z
DTEND:20190310T163000Z
LOCATION:Gutshof Lindstedt (Zum Lindengut 77 \, Gardelegen \, Germany)
SUMMARY:Zweig an Zweig - FrühlingsKreativ im Gutshaus1704
URL:http://www.gutshof-lindstedt.de/index.php/component/rseventspro/event/3
 18-zweig-an-zweig-fruehlingskreativ-im-gutshaus1704?Itemid=101
END:VEVENT
END:VCALENDAR
