BEGIN:VCALENDAR
VERSION:2.0
PRODID:-//http://www.gutshof-lindstedt.de///NONSGML kigkonsult.se iCalcreator 2.10.15//
METHOD:PUBLISH
BEGIN:VEVENT
UID:20260419T183752CEST-9245txanMu@http://www.gutshof-lindstedt.de/
DTSTAMP:20260419T163752Z
DESCRIPTION:Am Himmelfahrtstag laden wir Dich und Euch recht herzlich ein\,
  den Gutshof Lindstedt zu besuchen. Ab 10:00 Uhr ist auf dem Gutshof durch
 gehend für das allgemeine und natürlich auch das für den Himmelfahrts- bzw
 . Herrentag besonders typische leibliche Wohl gesorgt. \;-)# Live-Musik - 
 querbeet &amp\; stimmungsvoll mit Christian B. aus S.# Deftiges vom Grill 
 und kühle Getränke# ab 14:00 Uhr Kaffee &amp\; KuchenWir freuen uns auf De
 inen/Euren Besuch auf dem Gutshof Lindstedt! http://www.gutshof-lindstedt.
 de/index.php/component/rseventspro/event/319-himmelfahrt-herrentag-auf-dem
 -gutshof-lindstedt?Itemid=101
DTSTART:20190530T100000Z
DTEND:20190530T190000Z
LOCATION:Gutshof Lindstedt (Zum Lindengut 77 \, Gardelegen \, Germany)
SUMMARY:Himmelfahrt / Herrentag auf dem Gutshof Lindstedt
URL:http://www.gutshof-lindstedt.de/index.php/component/rseventspro/event/3
 19-himmelfahrt-herrentag-auf-dem-gutshof-lindstedt?Itemid=101
END:VEVENT
END:VCALENDAR
