BEGIN:VCALENDAR
VERSION:2.0
PRODID:-//http://www.gutshof-lindstedt.de///NONSGML kigkonsult.se iCalcreator 2.10.15//
METHOD:PUBLISH
BEGIN:VEVENT
UID:20260419T195440CEST-4843omVDLl@http://www.gutshof-lindstedt.de/
DTSTAMP:20260419T175440Z
DESCRIPTION:+ + + Sicher Dir JETZT dein Ticket zu einem günstigen Preis + +
  + Alle\, die bis zum 20.06. Tickets vorbestellen\, erhalten folgende Raba
 tte:+++ ab 2 Tickets: 12\,50 € pro Stück ++++++ ab 5 Tickets: 10\,00 € pro
  Stück +++[Ansonsten gelten folgenden Preise: Einzelpreis pro Ticket oder 
 Eintritt Abendkasse: 14 €]\nDeine vorbestellten Tickets werden für Dich am
  Eintritt hinterlegt und Du bezahlst diese dann am 22.06. vor Ort.\n+ Vorb
 estellungen können erfolgen: +# per E-Mail: post@gutshof-lindstedt.de  Wir
  freuen uns darauf mit Dir/Euch gemeinsam die Gute-Laune-Band Tick2Loud au
 f dem Gutshof Lindstedt in der #Fachwerkscheune1788 zu begrüßen.\nACHTUNG!
  Die Anzahl der verfügbaren Eintrittskarten ist begrenzt!Wer mehr zur Band
  Tick2Loud wissen möchte\, findet Infos und auch einige Hörproben unter: h
 ttp://tick2loud.de/Einlass: ab 19:30 UhrBeginn des Konzerts: gegen 20:30 U
 hr#Fachwerkscheune1788 | #Gutshof_Lindstedt #Lindstedt | #Gardelegen | #Al
 tmark http://www.gutshof-lindstedt.de/index.php/component/rseventspro/even
 t/320-mittsommerkonzert-mit-tick2loud?Itemid=101
DTSTART:20190622T193000Z
DTEND:20190622T230000Z
LOCATION:Gutshof Lindstedt (Zum Lindengut 77 \, Gardelegen \, Germany)
SUMMARY:MittSommerKonzert mit Tick2Loud
URL:http://www.gutshof-lindstedt.de/index.php/component/rseventspro/event/3
 20-mittsommerkonzert-mit-tick2loud?Itemid=101
END:VEVENT
END:VCALENDAR
