BEGIN:VCALENDAR
VERSION:2.0
PRODID:-//http://www.gutshof-lindstedt.de///NONSGML kigkonsult.se iCalcreator 2.10.15//
METHOD:PUBLISH
BEGIN:VEVENT
UID:20260419T183508CEST-3505F1AjXT@http://www.gutshof-lindstedt.de/
DTSTAMP:20260419T163508Z
DESCRIPTION:Wir freuen uns auf zahlreiche interessierte Besucher!+ + + ab 1
 3:00 Uhr + + +Führungen zur Geschichte des Gutshofes u.a. durch das denkma
 lgeschützte&nbsp\;#Gutshaus1704\, die&nbsp\;#Fachwerkscheune1788&nbsp\;sow
 ie über das Gutsareal&nbsp\;Treffpunkt: vor dem Gutshaus&nbsp\;+ + + Und a
 ußerdem + + +# Historisches Bogenschießen und Pfeilbau mit dem Sportverein
  Wacker Lindstedt 1912 e.V.# Kuchen-Backvorführung und -verkostung aus dem
  historischen Lehmbackofen durch die Ortsgruppe Lindstedt der Volkssolidar
 ität# Kreativ-Workshop: 'Ernte- und Herbstkränze selbst anfertigen'&nbsp\;
 # Spass für Jung und Alt&nbsp\;+ Riesen-Mikado\, Mölkky\, XXL-Wackelturm\,
  Wikinger-Schach&nbsp\;# Fürs leibliche Wohl ist durchgehend gesorgt!Wir f
 reuen uns auf Deinen/Ihren Besuch. http://www.gutshof-lindstedt.de/index.p
 hp/component/rseventspro/event/325-tag-des-offenen-denkmals-auf-dem-gutsho
 f-lindstedt?Itemid=101
DTSTART:20190908T100000Z
DTEND:20190908T170000Z
LOCATION:Gutshof Lindstedt (Zum Lindengut 77 \, Gardelegen \, Germany)
SUMMARY:Tag des offenen Denkmals auf dem Gutshof Lindstedt
URL:http://www.gutshof-lindstedt.de/index.php/component/rseventspro/event/3
 25-tag-des-offenen-denkmals-auf-dem-gutshof-lindstedt?Itemid=101
END:VEVENT
END:VCALENDAR
