BEGIN:VCALENDAR
VERSION:2.0
PRODID:-//http://www.gutshof-lindstedt.de///NONSGML kigkonsult.se iCalcreator 2.10.15//
METHOD:PUBLISH
BEGIN:VEVENT
UID:20260419T182853CEST-24172viZpM@http://www.gutshof-lindstedt.de/
DTSTAMP:20260419T162853Z
DESCRIPTION:Diese Veranstaltung ist eine eine Gemeinschaftsaktion der Kita 
 „Entdeckerland\, der Wirtschaftsjunioren Altmark und des Gutshofes Lindste
 dt (c/o Fördervereins „Historische Region Lindstedt“ e.V.). + + + PROGRAMM
 PUNKTE + + + 10:00 bis ca. 12:30 Uhr ~ Aktion „Most Wanted“ &amp\; ApfelNa
 tur-EntdeckungsTour für Kinder ~Apfelsaft pressen und frisch verkosten &gt
 \; LandArt-Spaziergang &amp\; Streuobstwiesen entdecken &gt\; Herstellung 
 und Verkostung eines leckeren Apfelimbisses\, Treffpunkt zum Start 10:00 U
 hr : vor dem GutshausMelden sie sich und ihre Kinder gerne im Vorfeld zur 
 Teilnahme an diesem Progarmmpunkt an - per E-Mail: post@gutshof-lindstedt.
 de oder per Whatsapp/Telefon: 0163 - 825 367 0 . 11:00 bis 16:00 Uhr ~ Eig
 enen Apfelsaft pressen lassen ~Sie bringen Ihr Obst &gt\; Die mobile Moste
 rei „Apfelkönig“ presst\, pasteurisiert\, füllt ab (Bag-in-Box 5L) &gt\; S
 ie nehmen Ihren eigenen Saft gleich mit (5\,50 € für 5L im Karton). Bitte 
 melden sie sich dazu vorher beim Apfelkönig an. (Kontaktdaten siehe unten)
 .13:30 Uhr bis ca. 15:30~ ApfelNatur-EntdeckungsTour für Kinder ~Apfelsaft
  pressen und frisch verkosten &gt\; LandArt-Spaziergang &amp\; Streuobstwi
 esen entdecken &gt\; Herstellung und Verkostung eines Apfelimbisses Treffp
 unkt zum Start 13:30 Uhr: vor dem GutshausMelden sie sich und ihre Kinder 
 gerne im Vorfeld zur Teilnahme an diesem Progarmmpunkt an - per E-Mail: po
 st@gutshof-lindstedt.de oder per Whatsapp/Telefon: 0163 - 825 367 0 . 14:0
 0 bis 16:00 Uhr ~ Apfelsortenbestimmung ~Sie haben die Möglichkeit Obstsor
 ten (Äpfel/Birnen) an Hand von Früchten bestimmen zu lassen\, die sie aus 
 ihrem Garten oder von anderswo mitbringen. Fürs leibliche Wohl ist gesorgt
 !+ + + Voranmeldung zum Apfelsaftpressen + + +Um längere Wartezeiten zu ve
 rmeiden\, empfehlen wir Ihnen sich zum Pressen von Saft aus ihren eigenen 
 Obst im Vorfeld anzumelden. Kontaktieren Sie dazu bitte die mobile Mostere
 i 'apfelkönig' unter folgenden Kontaktdaten: Mobil: 0151 - 577 639 36Tel: 
 039001 – 890016E-Mail: info@apfelkoenig.comWeitere Informationen zur mobil
 en Mosterei und dazu\, wie diese aus ihren Äpfeln leckeren Apfelsaft press
 t\, finden sie unter: www.apfelkoenig.com http://www.gutshof-lindstedt.de/
 index.php/component/rseventspro/event/326-lindstedter-appeldag?Itemid=101
DTSTART:20191003T100000Z
DTEND:20191003T163000Z
LOCATION:Gutshof Lindstedt (Zum Lindengut 77 \, Gardelegen \, Germany)
SUMMARY:Lindstedter Appeldag
URL:http://www.gutshof-lindstedt.de/index.php/component/rseventspro/event/3
 26-lindstedter-appeldag?Itemid=101
END:VEVENT
END:VCALENDAR
