BEGIN:VCALENDAR
VERSION:2.0
PRODID:-//http://www.gutshof-lindstedt.de///NONSGML kigkonsult.se iCalcreator 2.10.15//
METHOD:PUBLISH
BEGIN:VEVENT
UID:20260419T182852CEST-6397UuLelC@http://www.gutshof-lindstedt.de/
DTSTAMP:20260419T162852Z
DESCRIPTION:Im Rahmen des Workshops binden und gestalten Sie unter Anleitun
 g ihren eigenen Herbstkranz – das Ganze natürlich in gemütlicher Atmosphär
 e inklusive einem leckeren Mittags-Imbiss und wohlschmeckendem #Gutskaffee
 1704 bzw. Tee etc. Sie erlernen die universelle Bindetechnik für das Binde
 n von Kränzen auf Strohrömer oder einem Metallring\, die Sie danach auch a
 uf das Binden anderer Kränze anwenden können. Es werden Ihnen zahlreiche T
 ricks und Kniffe der Bindetechnik vermittelt und sie erfahren Interessante
 s über das Arbeiten mit Naturmaterialien.Die Teilnehmerzahl ist begrenzt.D
 er Workshop findet im Obergeschoss des #Gutshaus1704 oder bei hervorragend
 em Wetter in der #Fachwerkscheune1788 auf dem Gutshof Lindstedt statt.+ + 
 + TEILNEHMERGEBÜHR + + + Die Teilnehmergebühr beträgt für Erwachsene 19\,5
 0 € und für Kinder(Jugendliche) von 12 bis 18 Jahre 12\,50 €. Der Betrag i
 st nach der Anmeldung auf das Konto des Fördervereins 'Historische Region 
 Lindstedt' e.V. zu überweisen. Die Infos dazu erhalten Sie nach der Anmeld
 ung In der Gebühr enthalten sind alle Materialien\, die zum Binden eines k
 ompletten Herbstkranzes benötigt werden sowie der Mittagsimbiss + 1 Geträn
 k. Darüber hinaus können bei Bedarf besondere Dekorationsaccessoires genut
 zt werden\, die vor Ort nach Verbrauch abgerechnet werden. + + + ANMELDUNG
  + + + (Anmeldeschluss ist der 23.09.2019) Eine vorherige verbindliche Anm
 eldung zur Teilnahme ist unbedingt erforderlich! Sie können sich via Email
  (post@gutshof-lindstedt.de) anmelden. + + + FRAGEN + + +Sollten Sie Frage
 n zu dem Workshop haben\, können Sie uns gerne via Email (post@gutshof-lin
 dstedt.de) kontaktieren. Wir beantworten ihre Fragen sehr gern. http://www
 .gutshof-lindstedt.de/index.php/component/rseventspro/event/327-herbstkrae
 nze-workshop?Itemid=101
DTSTART:20190929T100000Z
DTEND:20190929T130000Z
LOCATION:Gutshof Lindstedt (Zum Lindengut 77 \, Gardelegen \, Germany)
SUMMARY:Herbstkränze - Workshop
URL:http://www.gutshof-lindstedt.de/index.php/component/rseventspro/event/3
 27-herbstkraenze-workshop?Itemid=101
END:VEVENT
END:VCALENDAR
