BEGIN:VCALENDAR
VERSION:2.0
PRODID:-//http://www.gutshof-lindstedt.de///NONSGML kigkonsult.se iCalcreator 2.10.15//
METHOD:PUBLISH
BEGIN:VEVENT
UID:20260419T183446CEST-7358VvXvmT@http://www.gutshof-lindstedt.de/
DTSTAMP:20260419T163446Z
DESCRIPTION:Der Landesheimatbund Sachsen-Anhalt und der Förderverein 'Histo
 rische Region Lindstedt' laden Sie gemeinsam zu dieser Fortbildung für Ver
 eine und Initiativen ein. Zur Teilnahme ist eine vorherige Anmeldung erfor
 derliche (Kontaktdaten siehe unten).Das Hauptthema der Veranstaltung ist d
 ie Genossenschaft als Trägerschaftsmodell für den Dorfladen\, das Vereinsc
 afé\, die Herberge\, ein Museum oder andere Objekte oder Aktivitäten - als
  Grundlage zur Sicherung des kulturellen Lebens und Erhaltung unseres kult
 urellen Erbes* in unseren Dörfern sowie Kleinstädten und somit im ländlich
 en Raum.Als Gast und Experten begrüßen wir Jörg Dahlke. Er ist u.a. Vorsta
 nd der Helionat Energiegenossenschaft und wird uns seine Erfahrungen aus d
 er Praxis einer Genossenschaft schildern. Gleichzeitig soll der Abend ein 
 Treffen sein\, das Raum für Erfahrungsaustausch und Vernetzung bietet. All
 e Gäste (Vereine\, Initiativen etc.) sind somit auch dazu eingeladen sich 
 mit einem Kurzporträt** vorzustellen.+ + + ABLAUF + + +17.30 Uhr Geführter
  Rundgang durch die denkmalgeschützten Gebäude und das Gutsareal (Treffpun
 kt: vor dem Gutshaus\, optionales Angebot)&nbsp\;&nbsp\; 18.30 Uhr Begrüßu
 ng und Vorstellung (Kurzportraits) der teilnehmenden Vereine und Initiativ
 en 19.30 Uhr Pause und Snacks (Selbstzahler)20.00 Uhr Erfahrungen aus der 
 Praxis einer Genossenschaft (Referent: Jörg Dahlke\,Helionat Energiegenoss
 enschaft)ca. 21.00 Uhr Ende der Veranstaltung\n+ + + ANMELDUNG + + +Bitte 
 melden Sie sich bis zum 13.10.2019 an: # telefonisch unter 0345 / 29 28 61
 6 oder per E-Mail&nbsp\; landaktiv@lhbsa.de Auch bei Rückfragen können Sie
  gerne Frau Ulrike Dietrich vom Landesheimatbund (Projektleiterin) anrufen
 ! WIR FREUEN UNS AUF IHRE TEILNAHME!** Kurzporträts: Auf Grundlage einiger
  Bilder stellen wird eine Präsentation zusammen und alle teilnehmenden Ver
 eine/Initiativen können sich nacheinander mit einem Kurzportrait (5 min) v
 orstellen. Nutzen Sie das Angebot und werben Sie für Ihre Aktivitäten\, Ih
 r Wissen und Know-how. Und sagen Sie uns\, wo Sie Hilfe und Unterstützung 
 benötigen.*Netzwerk kulturelles Erbe: Gemeinsam mit Ihrem Verein und den M
 itstreitern sind Sie in Ihrem Ort und der Region die Bewahrer\, Beschützer
  und Entwickler des kulturellen Erbes. Egal ob Heimatstube\, Kirche\, Denk
 mal\, Wald und Allee\, Dorfgemeinschaftshaus oder Schwimmbad – es sind die
  Orte\, die die Kinderstube vieler Generationen waren und es auch bleiben 
 sollen. Ihre Erfahrungen\, Ihr Wissen und Know-how zum kulturellen Erbe fl
 ießen unter dem Dach des Landesheimatbundes in ein Bündnis - ein Kulturerb
 e-Netz\, bei der Sie die Diskussions- und Weiterbildungsthemen mitbestimme
 n können. Weitere Informationen unter www.kulturerbe.lhbsa.deTitelbild\; p
 ixabay\, User: cocoparisienne http://www.gutshof-lindstedt.de/index.php/co
 mponent/rseventspro/event/329-genossenschaften-zur-erhaltung-des-laendl-le
 bens-kulturerbes?Itemid=101
DTSTART:20191017T173000Z
DTEND:20191017T210000Z
LOCATION:Gutshof Lindstedt (Zum Lindengut 77 \, Gardelegen \, Germany)
SUMMARY:Genossenschaften zur Erhaltung des ländl. Lebens & Kulturerbes
URL:http://www.gutshof-lindstedt.de/index.php/component/rseventspro/event/3
 29-genossenschaften-zur-erhaltung-des-laendl-lebens-kulturerbes?Itemid=101
END:VEVENT
END:VCALENDAR
