BEGIN:VCALENDAR
VERSION:2.0
PRODID:-//http://www.gutshof-lindstedt.de///NONSGML kigkonsult.se iCalcreator 2.10.15//
METHOD:PUBLISH
BEGIN:VEVENT
UID:20260419T183027CEST-27207xx38Z@http://www.gutshof-lindstedt.de/
DTSTAMP:20260419T163027Z
DESCRIPTION:Vormerken\, weitersagen &amp\; ◦D◦A◦B◦E◦I◦ ◦S◦E◦I◦N◦!.Die Regio
 n Lindstedt lädt Euch auch 2019 herzlich zum mittlerweile 10. Adventsmarkt
  in die rustikal-liebevoll gestaltete heimelige #Fachwerkscheune1788 auf d
 em Gutshof Lindstedt ein. Die Programmpunkte# Laien-Schauspiel 'Hänsel &am
 p\; Gretel'# LiveMusik mit Tick2Loud# Spektakuläres Lichtspektakel (Lichtk
 ünstler Matthias Faul) # Männerchor &amp\; Jagdhornbläser aus Lindstedt# B
 astelStube im #Gutshaus1704 Wie immer wird es bei diesem gesellig-heimelig
 en Highlight eine Menge Kultur geben und es werden ausgewählte\, regionale
  Verkaufsstände auf dem ◦M◦A◦R◦K◦T◦ ◦D◦E◦R◦ ◦S◦C◦H◦Ö◦N◦E◦N◦ ◦D◦I◦N◦G◦E◦ vo
 r Ort sein (Geschenke\, Floristik\, Handwerk\, Accessoires u.v.m.).Allerle
 i leckere Speisen und Getränke sorgen fürs leibliche Wohl und runden die V
 eranstaltung ab. Wir freuen uns auf einen schönen Nachmittag und Abend\, u
 m gemeinsam mit Euch in die Adventszeit zu starten!#Advent | #Adventsmarkt
  #Fachwerkscheune1788 | #Gutshof_Lindstedt | #Lindstedt | #Region_Lindsted
 t | #Gardelegen | #Altmark http://www.gutshof-lindstedt.de/index.php/compo
 nent/rseventspro/event/330-lindstedter-adventsmarkt?Itemid=101
DTSTART:20191130T150000Z
DTEND:20191130T210000Z
LOCATION:Gutshof Lindstedt (Zum Lindengut 77 \, Gardelegen \, Germany)
SUMMARY:Lindstedter Adventsmarkt
URL:http://www.gutshof-lindstedt.de/index.php/component/rseventspro/event/3
 30-lindstedter-adventsmarkt?Itemid=101
END:VEVENT
END:VCALENDAR
