BEGIN:VCALENDAR
VERSION:2.0
PRODID:-//http://www.gutshof-lindstedt.de///NONSGML kigkonsult.se iCalcreator 2.10.15//
METHOD:PUBLISH
BEGIN:VEVENT
UID:20260419T195414CEST-61665HL8dW@http://www.gutshof-lindstedt.de/
DTSTAMP:20260419T175414Z
DESCRIPTION:ACHTUNG! Dieser Kurs ist bereits ausgebucht. Auf Grund der groß
 en Nachfrage bieten wir daher im Februar diesen weiteren Kurs zum Thema Bo
 ho-Kränze an: &gt\;&gt\;&gt\; Deko.Kurs: Boho-Kränze - FrühlingserwachenZa
 rte Boho - Kränze werden immer beliebter. Ob als graziler Türschmuck oder 
 ausgefallene Fensterdekoration\, ihr könnt sie wirklich vielfältig einsetz
 en.In unserem Januar-Kurs fertigen wir zusammen zwei dieser zarten Kränze 
 im winterlichen bis frühlingshaften Look an. Die Materialien sind inklusiv
 e\, natürlich habe ich wie immer auch noch zusätzliche Dekoartikel dabei.L
 asst euch einfach überraschen und einen schönen Nachmittag beim miteinande
 r Werkeln sowie Tee/Kaffee und Gebäck in gemütlicher Atmosphäre im Gutshau
 s Lindstedt verbringen. Der Kurs findet im Gutshaus statt\, dauert ca. 2 S
 tuden und es sind max.15 Plätze verfügbar.+ + + TEILNEHMERGEBÜHR / KOSTEN 
 + + + In den u.a. Teilnehmergebühren sind die Kosten für die Grundmaterial
 ien + Deko für 2 Boho-Kränze sowie Getränke und Gebäck enthalten. Die Teil
 nehmergebühr beträgt für Erwachsene: 29 € und für Kinder/Jugendliche ab 12
  bis 18 Jahre: 17\,50 €. + + + ANMELDUNG + + + Anmeldeschluss ist der 20.0
 1.2020 Zur Teilnahme ist eine vorherige verbindliche Anmeldung erforderlic
 h! Sie können sich via Email (post@gutshof-lindstedt.de) anmelden. Nach de
 r Anmeldung erhalten sie per Email eine Anmeldebestätigung nebst Rechnung 
 mit weiteren Informationen. + + + FRAGEN + + +Sollten Sie Fragen zu dem Wo
 rkshop haben\, können Sie uns gerne via Email (post@gutshof-lindstedt.de) 
 kontaktieren. Wir beantworten ihre Fragen sehr gern.#Workshop #Floristik #
 Deko #Landleben #Gutshof #Altmark #Lindstedt #Gardelegen http://www.gutsho
 f-lindstedt.de/index.php/component/rseventspro/event/331-deko-kurs-boho-kr
 aenze?Itemid=101
DTSTART:20200126T140000Z
DTEND:20200126T160000Z
LOCATION:Gutshof Lindstedt (Zum Lindengut 77 \, Gardelegen \, Germany)
SUMMARY:Deko.Kurs: Boho-Kränze
URL:http://www.gutshof-lindstedt.de/index.php/component/rseventspro/event/3
 31-deko-kurs-boho-kraenze?Itemid=101
END:VEVENT
END:VCALENDAR
