BEGIN:VCALENDAR
VERSION:2.0
PRODID:-//http://www.gutshof-lindstedt.de///NONSGML kigkonsult.se iCalcreator 2.10.15//
METHOD:PUBLISH
BEGIN:VEVENT
UID:20260419T183317CEST-8061sB0dFk@http://www.gutshof-lindstedt.de/
DTSTAMP:20260419T163317Z
DESCRIPTION:Zarte Boho - Kränze werden immer beliebter. Ob als graziler Tür
 schmuck oder ausgefallene Fensterdekoration\, ihr könnt sie wirklich vielf
 ältig einsetzen.Auf Grund der großen Nachfrage wird es diesen zweiten Deko
 -Kurs zum Thema Boho-Kränze geben.In diesem fertigen wir zusammen zwei die
 ser zarten Kränze im frühlingshaften Look an. Die Materialien sind inklusi
 ve\, natürlich habe ich wie immer auch noch zusätzliche Dekoartikel dabei.
 Lasst euch einfach überraschen und einen schönen Nachmittag beim miteinand
 er Werkeln sowie Tee/Kaffee und Gebäck in gemütlicher Atmosphäre im Gutsha
 us Lindstedt verbringen. Der Kurs findet im Obergeschoss des Gutshauses st
 att\, dauert ca. 2 Studen und es sind max.15 Plätze verfügbar.+ + + TEILNE
 HMERGEBÜHR / KOSTEN + + + In den u.a. Teilnehmergebühren sind die Kosten f
 ür die Grundmaterialien + Deko für 2 Boho-Kränze sowie Getränke und Gebäck
  enthalten. Die Teilnehmergebühr beträgt für Erwachsene: 29 € und für Kind
 er/Jugendliche ab 12 bis 18 Jahre: 17\,50 €. + + + ANMELDUNG + + + Anmelde
 schluss ist der 17.02.2020 Zur Teilnahme ist eine vorherige verbindliche A
 nmeldung erforderlich! Sie können sich via Email (post@gutshof-lindstedt.d
 e) anmelden. Nach der Anmeldung erhalten sie per Email eine Anmeldebestäti
 gung nebst Rechnung mit weiteren Informationen. + + + FRAGEN + + +Sollten 
 Sie Fragen zu dem Workshop haben\, können Sie uns gerne via Email (post@gu
 tshof-lindstedt.de) kontaktieren. Wir beantworten ihre Fragen sehr gern.#W
 orkshop #Floristik #Deko #Landleben #Gutshof #Altmark #Lindstedt #Gardeleg
 en http://www.gutshof-lindstedt.de/index.php/component/rseventspro/event/3
 33-deko-kurs-boho-kraenze-fruehlingserwachen?Itemid=101
DTSTART:20200223T140000Z
DTEND:20200223T160000Z
LOCATION:Gutshof Lindstedt (Zum Lindengut 77 \, Gardelegen \, Germany)
SUMMARY:Deko.Kurs: Boho-Kränze - Frühlingserwachen
URL:http://www.gutshof-lindstedt.de/index.php/component/rseventspro/event/3
 33-deko-kurs-boho-kraenze-fruehlingserwachen?Itemid=101
END:VEVENT
END:VCALENDAR
