BEGIN:VCALENDAR
VERSION:2.0
PRODID:-//http://www.gutshof-lindstedt.de///NONSGML kigkonsult.se iCalcreator 2.10.15//
METHOD:PUBLISH
BEGIN:VEVENT
UID:20260419T183727CEST-8903x7mIZN@http://www.gutshof-lindstedt.de/
DTSTAMP:20260419T163727Z
DESCRIPTION:In diesem Kurs gestaltest du einen individuellen edlen Oster-Kr
 anz für dein Zuhause oder zum Verschenken – aus Naturmaterialien sowie mit
  tollen Accessoires und frischen Frühlings-Blumen (Blumenzwiebeln). Du wir
 st somit auch die Blumenzwiebeln durch das sogenannte „waxen“ entsprechend
  vorbereiten\, um damit einen Kranz dekorieren zu können. Du erlernst die 
 Grundfertigkeiten zur Herstellung von Kränzen aus Naturmaterialien oder ba
 ust diese aus und es werden Dir zahlreiche Tricks und Kniffe beim Dekorier
 en eines Kranzes gezeigt\, u.a. das Waxen von Blumenzwiebeln.Das Ganze fin
 det natürlich in gemütlicher Atmosphäre im Gutshaus Lindstedt statt - inkl
 . #Gutskaffee1704 oder Tee\, #GutsApfelsaft6068 etc. und einem leckeren St
 ück Kuchen.Der Workshop ist für Einsteiger und Fortgeschrittene geeignet. 
 Kinder sollten mindestens ca. 12 Jahre sein. Der Workshop findet im Oberge
 schoss des #Gutshaus1704 statt. Die Teilnehmerzahl ist begrenzt. Infos zur
  Anmeldung findest du weiter unten.+ + + TEILNAHMEGEBÜHR + + + Die Teilneh
 mergebühr beträgt für Erwachsene 39 € oder ermäßigt für Schüler\, Azubis\,
  oder Studierende 20 €. Im Preis enthalten sind ALLE notwendigen Materiali
 en zur Herstellung und zur Dekoration des Kranzes sowie Kaffee/Tee/Saft un
 d eine Stück Kuchen.+ + + ANMELDUNG + + + (Anmeldeschluss ist der 09.03.20
 20) Eine vorherige verbindliche Anmeldung zur Teilnahme ist unbedingt erfo
 rderlich! Sie können sich via per Email (post@gutshof-lindstedt.de) anmeld
 en. Nach Ihrer Anmeldung erhalten Sie per Email eine Anmeldebestätigung ne
 bst Rechnung über die Teilnahmegebühren. Bitte geben Sie daher bei der Anm
 eldung ihre E-Mail-Adresse und Post-/Rechnungsanschrift an. + + + FRAGEN +
  + +Sollten Sie Fragen zu dem Workshop haben\, können Sie uns gerne via Em
 ail (post@gutshof-lindstedt.de) kontaktieren. Wir beantworten ihre Fragen 
 sehr gern. http://www.gutshof-lindstedt.de/index.php/component/rseventspro
 /event/334-deko-kurs-osterkreativ-im-gutshaus1704?Itemid=101
DTSTART:20200315T140000Z
DTEND:20200315T160000Z
LOCATION:Gutshof Lindstedt (Zum Lindengut 77 \, Gardelegen \, Germany)
SUMMARY:Deko.Kurs: OsterKreativ im #Gutshaus1704
URL:http://www.gutshof-lindstedt.de/index.php/component/rseventspro/event/3
 34-deko-kurs-osterkreativ-im-gutshaus1704?Itemid=101
END:VEVENT
END:VCALENDAR
