BEGIN:VCALENDAR
VERSION:2.0
PRODID:-//http://www.gutshof-lindstedt.de///NONSGML kigkonsult.se iCalcreator 2.10.15//
METHOD:PUBLISH
BEGIN:VEVENT
UID:20260421T111151CEST-1560d4szPW@http://www.gutshof-lindstedt.de/
DTSTAMP:20260421T091151Z
DESCRIPTION:Auf Grund der aktuellen Situation werden wir diesen Kurs nicht 
 durchführen. Er ist somit abgesagt!Alle angemeldeten TeilnehmerInnen\, die
  bereits den Teilnahmebeitrag bezahlt haben\, werden wir diesen zurückerst
 atten.Beste Grüße vom Gutshof-Team und ...BLEIBT GESUND!\nHiermit laden wi
 r Interessierte herzlich zu einem Obstbaum-Schnittkurs in Theorie und Prax
 is ein. In dem Kurs wird Ihnen Patrick Ludwig aus Zienau die Grundlagen de
 s Obstbaumschnitts am Beispiel des Apfelbaums vermitteln. Er selbst beschä
 ftigt sich seit vielen Jahren mit diesem Thema und seine besondere Leidens
 chaft gilt u.a. auch dem Veredeln von Obstbäumen\, um alte regionale Sorte
 n zu erhalten.\n+ + + ABLAUF + + +&nbsp\;Der Kurs gliedert sich in 2 Teile
 :\n1. Theorie (10:30 bis ca. 12:00 Uhr) im #Gutshaus1704 Inhalte des Theor
 ie-Teils: Pomologie allgemein\, Aufbau und Biologie\, Entstehung und Gesch
 ichte von Sorten\, Werkzeugkunde\, Wuchsverhalten\, Stammbildner und Unter
 lagen\, Schnittzeit: Sommerschnitt &amp\; Winterschnitt\, Wundbehandlung\,
  Kronenformen (Spindel\, Busch\, Offenkrone\, Pyramide)\, Pflanzschnitt &a
 mp\; Instandhaltungsschnitt\, Wachstum und Fruchtholz\, häufige Fehler und
  ihre Auswirkungen etc.\n- - - Pause mit Mittagsimbiss - - -\n2. Praxis-Te
 il (ab ca. 13:00 Uhr) auf den #Streuobstwiesen6068 des Gutshofes Lindstedt
 Praktisches schneiden von Obst- bzw. Apfelbäumen auf den Streuobstwiesen d
 es GutshofesDazu bitte folgendes mitbringen:wetterfeste Kleidung und Schuh
 werk/Stiefel\, Handschuhe\,Werkzeug: Gartenschere\, Astschere\, Ast- oder 
 Handsäge\, wenn vorhanden auch gerne eine Teleskop-Astschere/Schneidegiraf
 fe\n+ + + TEILNAHMEGEBÜHR + + +  Die Teilnehmergebühr beträgt regulär 25 €
  oder ermäßigt für Schüler\, Azubis oder Studierende (mit Nachweis) 10 €. 
 In den Teilnahmegebühren ist ein Mittagsimbiss enthalten.\n+ + + ANMELDUNG
  + + + (Anmeldeschluss ist der 14.03.2020)  Eine vorherige verbindliche An
 meldung zur Teilnahme ist unbedingt erforderlich! Auf Grund der begrenzten
  Teilnehmerzahl empfehlen wir Interessierten eine frühzeitige Anmeldung Si
 e können sich via Email (post@gutshof-lindstedt.de) anmelden. Nach Ihrer A
 nmeldung erhalten Sie per Email eine Anmeldebestätigung nebst Rechnung übe
 r die Teilnahmegebühren. Bitte geben Sie daher bei der Anmeldung ihre E-Ma
 il-Adresse und Post-/Rechnungsanschrift an.\n+ + + FRAGEN + + + Sollten Si
 e Fragen zu dem Workshop haben\, können Sie uns gerne via Email (post@guts
 hof-lindstedt.de) kontaktieren. Wir beantworten ihre Fragen sehr gern.\n&n
 bsp\;\n&nbsp\; http://www.gutshof-lindstedt.de/index.php/component/rsevent
 spro/event/335-absage-obstbaum-schnittkurs-in-theorie-und-praxis-am-beispi
 el-apfelbaum?Itemid=101
DTSTART:20200322T103000Z
DTEND:20200322T150000Z
LOCATION:Gutshof Lindstedt (Zum Lindengut 77 \, Gardelegen \, Germany)
SUMMARY:ABSAGE! Obstbaum-Schnittkurs in Theorie und Praxis am Beispiel Apfe
 lbaum
URL:http://www.gutshof-lindstedt.de/index.php/component/rseventspro/event/3
 35-absage-obstbaum-schnittkurs-in-theorie-und-praxis-am-beispiel-apfelbaum
 ?Itemid=101
END:VEVENT
END:VCALENDAR
