BEGIN:VCALENDAR
VERSION:2.0
PRODID:-//http://www.gutshof-lindstedt.de///NONSGML kigkonsult.se iCalcreator 2.10.15//
METHOD:PUBLISH
BEGIN:VEVENT
UID:20260419T200716CEST-01428hKUgP@http://www.gutshof-lindstedt.de/
DTSTAMP:20260419T180716Z
DESCRIPTION:Auf Grund der Corona-Pandemie und den damit im Zusammenhang ste
 henden Bestimmungen und Regelungen müssen wir diese Veranstaltung leider a
 bsagen.\nSchma | cko | fatz Substantiv\, maskulin oder Substantiv\, Neutru
 m [der]\; umgangssprachlich: sehr wohlschmeckende Speise\; Leckerei\nHierm
 it laden wir Interessierte recht herzlich zu ein paar spannenden und lecke
 ren Stunden rund um das Thema Wildkräuter ein. Auch Jugendliche sowie Kind
 er sind in Begleitung ihrer Eltern herzlich willkommen.\n+ + + ABLAUF + + 
 +Beim Wildkräuter-Schmackofatz wird sich das Gutsareal für uns bei einem s
 pannenden Kräuterspaziergang in ein großes Buffet verwandeln. An diesem we
 rden wir uns unter sachkundiger Anleitung durch unsere Kräuterpädagogin Jo
 hanna Brilling bedienen. Gemeinsam werden wir dann die gesammelten Wildkrä
 uter in der rustikalen Küche des #Gutshaus1704 in einen leckeren Mittagsim
 biss verwandelt\, und diesen an der großen Tafel in der Querdiele verspeis
 en. Außerdem werden wir zwei Kräuteröle herstellen\, die Du dann in deiner
  heimischen Küche in schöner Erinnerung an einen spannenden Tag auf dem Gu
 tshof Lindstedt zur Verfeinerung von Speisen verwenden kannst.\n# Mitzubri
 ngen sind bitte ein Korb und ein scharfes Messer\n+ + + TEILNEHMERGEBÜHR +
  + + Die Teilnehmergebühr beträgt regulär 25 € oder ermäßigt für Schüler\,
  Azubis oder Studierende (mit Nachweis) 5 €. In den Teilnahmegebühren ist 
 ein Mittagsimbiss enthalten.+ + ANMELDUNG + + + (Anmeldeschluss ist der 04
 .05.2020) Eine vorherige verbindliche Anmeldung zur Teilnahme ist unbeding
 t erforderlich! Auf Grund der begrenzten Teilnehmerzahl empfehlen wir Inte
 ressierten eine frühzeitige Anmeldung.Sie können sich via Email (post@guts
 hof-lindstedt.de) anmelden. Nach Ihrer Anmeldung erhalten Sie per Email ei
 ne Anmeldebestätigung nebst Rechnung über die Teilnahmegebühren. Bitte geb
 en Sie daher bei der Anmeldung ihre E-Mail-Adresse und Post-/Rechnungsansc
 hrift an.+ + + FRAGEN + + +Sollten Sie Fragen zu dem Workshop haben\, könn
 en Sie uns gerne via Telefon (0163 - 825 367 0) oder per Email (post@gutsh
 of-lindstedt.de) kontaktieren. Wir beantworten ihre Fragen sehr gern.#Kräu
 ter #Wildkräuter #Kräuteröl #Gewürze #Schmackofatz#Natur #Biotop #Bio #Koc
 hen #Gesundessen #Gewürze #Yummy #Gesund #Vegetatrisch #Kräutergarten#guts
 hoflindstedt #Gutshof #Lindstedt #Altmark #Gardelegen #Landleben #Selbstve
 rsorgung #instafood #herbs #healthyfood #vegan\n&nbsp\; http://www.gutshof
 -lindstedt.de/index.php/component/rseventspro/event/336-abgesagt-wildkraeu
 ter-schmackofatz?Itemid=101
DTSTART:20200512T173000Z
DTEND:20200512T200000Z
LOCATION:Gutshof Lindstedt (Zum Lindengut 77 \, Gardelegen \, Germany)
SUMMARY:ABGESAGT! > Wildkräuter-Schmackofatz
URL:http://www.gutshof-lindstedt.de/index.php/component/rseventspro/event/3
 36-abgesagt-wildkraeuter-schmackofatz?Itemid=101
END:VEVENT
END:VCALENDAR
