BEGIN:VCALENDAR
VERSION:2.0
PRODID:-//http://www.gutshof-lindstedt.de///NONSGML kigkonsult.se iCalcreator 2.10.15//
METHOD:PUBLISH
BEGIN:VEVENT
UID:20260419T183208CEST-1467bvE8jb@http://www.gutshof-lindstedt.de/
DTSTAMP:20260419T163208Z
DESCRIPTION:Auf Grund der Corona-Panemie und den damit im Zusammenhang steh
 enden Bestimmungen und Regelungen müssen wir diese Veranstaltung leider ab
 sagen.\nWir freuen uns auf das diesjährige MittsommerKonzert mit Euch in d
 er #Fachwerkscheune1788 auf dem Gutshof Lindstedt.Auf vielfachen Wunsch in
  diesem Jahr wieder und noch einmal mit der altmärkischen Band Tick2Loud.+
  + + ABLAUF + + + ab 19:30 Uhr &gt\;&gt\;&gt\; Einlassab 21:00 Uhr &gt\;&g
 t\;&gt\; Beginn des Konzerts: Live-Musik mit Tick2Loudca. 24:00 Uhr &gt\;&
 gt\;&gt\;Ende des Konzerts und Ausklang+ + + EINTRITTSPREIS + + + im Karte
 nvorverkauf: Einzelpreis: 11\,50 € | bei Sammelbestellung ab 4 Karten: 10\
 ,00 €/KarteAbendkasse: nur Einzelpreis: 14\,00 €+ + + KARTENVORVERKAUF + +
  + Karten können ab sofort via Email (post@gutshof-lindstedt.de) bestellt 
 werden. Wir senden Ihnen die Karten nebst Rechnung per Post zu (Versandkos
 ten 1\,50 €/Bestellung).Bitte geben Sie daher bei der Bestellung ihre Post
 anschrift an. + + + FÜR DAS LEIBLICHE WOHL IST GESORGT! + + + Weitere Info
 s zur Band Tick2Loud findet und Hörproben findet ihr unter: http://tick2lo
 ud.de/#GutshofLindstedt #Lindstedt #Gardelegen #Altmark #livemusik #mittso
 mmer #midsommer #konzert #tanz #scheunentanz #landleben #tanzaufdertenne h
 ttp://www.gutshof-lindstedt.de/index.php/component/rseventspro/event/337-a
 bgesagt-mittsommerkonzert-mit-tick2loud?Itemid=101
DTSTART:20200620T193000Z
DTEND:20200620T235900Z
LOCATION:Gutshof Lindstedt (Zum Lindengut 77 \, Gardelegen \, Germany)
SUMMARY:ABGESAGT! > MittsommerKonzert mit Tick2Loud
URL:http://www.gutshof-lindstedt.de/index.php/component/rseventspro/event/3
 37-abgesagt-mittsommerkonzert-mit-tick2loud?Itemid=101
END:VEVENT
END:VCALENDAR
