BEGIN:VCALENDAR
VERSION:2.0
PRODID:-//http://www.gutshof-lindstedt.de///NONSGML kigkonsult.se iCalcreator 2.10.15//
METHOD:PUBLISH
BEGIN:VEVENT
UID:20260419T201135CEST-0724UnCuv3@http://www.gutshof-lindstedt.de/
DTSTAMP:20260419T181135Z
DESCRIPTION:Auf Grund der Corona-Panemie und den damit im Zusammenhang steh
 enden Bestimmungen und Regelungen muss diese Veranstaltung leider absagt w
 erden.\n+ + + Veranstalter: Christoph Huth + + ++ + + Leitung des Seminars
 : Melanie Weishaupt + + + (Coach\, Kinesiologin und Heilpraktikerin für Ps
 ychotherapie)Mehr Informationen: http://www.melanie-weishaupt.com+ + + Ein
  Wochend-Seminar für Einsteiger und Wiederholer + + + Sie haben vom kinesi
 ologischen Muskeltest als Kommunikationsbrücke zum Unbewussten und Körper 
 schon gehört. Oder sie sind selbst schon einmal getestet und balanciert wo
 rden\, um Stress los zu werden. Jetzt geht es darum\, dieses wundervolle I
 nstrument selbst zu erlernen. Es sind keine Vorkenntnisse erforderlich! Wi
 r machen Euch mit dem Vorgehen beim Muskeltest vertraut und zeigen Euch an
  verschiedenen Beispielen\, wofür man die Kinesiologie im „Hausgebrauch“ n
 utzen kann. Dazu lernen wir mit vielen praktischen Übungen\, wie man zuver
 lässige Testergebnisse bekommt und was man alles auf diese Weise testen un
 d erfragen kann. + + + Seminarinhalte + + + # Grundregeln des Muskeltests\
 , Möglichkeiten u. Fehlerquellen # Vortests und Vorkorrekturen für zuverlä
 ssige Testergebnisse # Austesten und Auflösen von Stressfaktoren und Energ
 ieblockaden # Substanztests (z.B. Farben\, Bachblüten\, Lebensmittel…) # D
 ialogtests über Ja-/Nein-Fragen und Testlisten Dieser Kurs schafft gute Vo
 raussetzungen\, um den Muskeltest im Alltag sinnvoll anwenden sowie an wei
 teren spezialisierten Fortbildungen teilnehmen zu können + + + Seminarzeit
  + + + Samstag (09.05.2020) und Sonntag (10.05.2020)jeweils von 10:00 – 17
 :00 Uhr + + + Anmeldung und Teilnahmegebühr + + +Um an dem Seminar teilzun
 ehmen\, ist eine vorherige Anmeldung erforderlich.Die Teilnahmegebühr für 
 das Wochenend-Seminar beträgt 250\,- Euro (inkl. 19% MWSt). Zur Anmeldung 
 wenden Sie sich bitte an Christoph Huth:  # per Email: maniturm@t-online.d
 e oder # telefonisch: 03907-778328 ~~~ Anmeldeschluss ist der 24.04.2020 ~
 ~~ http://www.gutshof-lindstedt.de/index.php/component/rseventspro/event/3
 38-abgesagt-wie-funktioniert-der-muskeltest-und-was-kann-ich-mit-kinesiolo
 gie-erreichen?Itemid=101
DTSTART:20200509T093000Z
DTEND:20200510T170000Z
LOCATION:Gutshof Lindstedt (Zum Lindengut 77 \, Gardelegen \, Germany)
SUMMARY:ABGESAGT! > Wie funktioniert der Muskeltest und was kann ich mit Ki
 nesiologie erreichen?
URL:http://www.gutshof-lindstedt.de/index.php/component/rseventspro/event/3
 38-abgesagt-wie-funktioniert-der-muskeltest-und-was-kann-ich-mit-kinesiolo
 gie-erreichen?Itemid=101
END:VEVENT
END:VCALENDAR
