BEGIN:VCALENDAR
VERSION:2.0
PRODID:-//http://www.gutshof-lindstedt.de///NONSGML kigkonsult.se iCalcreator 2.10.15//
METHOD:PUBLISH
BEGIN:VEVENT
UID:20260419T183344CEST-30368CvauP@http://www.gutshof-lindstedt.de/
DTSTAMP:20260419T163344Z
DESCRIPTION:+++++++++++++++++&nbsp\;&nbsp\; ABGESAGT! &nbsp\; +++++++++++++
 +\nNach der Verlängerung der Ausgangsbeschränkungen und sonstigen Bestimmu
 ng zu den Kontaktverboten usw. müssen wir den 'Kellerbusch.Cup 2020' (19. 
 Lindstedter Bogenturnier)&nbsp\; am 02.05.2020 leider schweren Herzens abs
 agen.\nAlle für den Kellerbusch.Cup angemeldeten Schützen werden automatis
 ch auf die Starter-Liste für das Lindtstedter Bogenturnier 'Gutshof.Cup' a
 m 10.10.2020 übernommen. [ siehe:&nbsp\;http://www.gutshof-lindstedt.de/in
 dex.php/component/rseventspro/event/339-lindstedter-bogentunier-gutshof-cu
 p ]\nWer nicht am Gutshof.Cup teilnehmen kann bzw. möchte und sein bereits
  bezahltes Startgeld für den abgesagten 'Kellerbusch.Cup 2020' erstattet h
 aben möchte\, meldet sich bitte per –E-Mail bei Ronny Böhm [ronny.boehm@ar
 cor.de ].\n\nBleibt Gesund und bis bald!Eure Lindstedter Bogenschützen.\n
 \n++++++++++++++++++++++++++++++++++++++++++++\n&nbsp\;# Veranstalter: SV 
 Wacker Lindstedt 1912 e.V.# BogenklassenPB\, LBG\, RC\, RB ohne Visier ode
 r andere HilfsmittelHolz-\, Carbon- und Alupfeile sind zugelassen\, Jagdsp
 itzen sind untersagt# Ablauf&gt\; ab 9:00 Uhr Registrierung/Treffpunkt an 
 der Jagdhütte &gt\; 10:30 Uhr Begrüßung &gt\; ca. 11:00 Uhr Turnierbeginn 
 &gt\; gegen 16:30 Uhr Siegerehrung &gt\; dann: Geselliger Abend# Weitere I
 nfos• 3D-Turnier auf ca. 35 Ziele • abwechslungsreiches Gelände (Wiese\, W
 ald\, Feld\, Sumpf\, Wasser • Entfernungen bis 45 m\, Fernziel 120 m • Par
 courslänge ca. 4\,5 km\, wobei der Verpflegungsstand an der Jagdhütte mind
 . 2x passiert wird • Pokale für die 3 Besten jeder Klasse • max. 130 Start
 plätze • für das leibliche Wohl ist mit Speis und Trank reichlich gesorgt 
 • Anreise mit Wohnwagen möglich • Weitere Schlafmöglichkeiten auf dem Guts
 hof Lindstedt im&nbsp\;#Gutshaus1704 - siehe: Übernachten im Gutshaus\n# A
 nmeldung | Anmeldeschluss: 25.04.2020bei Ronny Böhm | per Telefon 0162 - 7
 792476&nbsp\; oder via E-Mail: ronny.boehm@arcor.de\nStartgeld• Kinder bis
  10 Jahre: frei• Kinder/Jugendliche 11- 17 Jahre: 7 €• Jugendliche/Erwachs
 ene ab 18 Jahre: 15 €\nZahlung/ÜberweisungSV Wacker Lindstedt e.V.IBAN: DE
 19 8105 5555 3030 0032 12BIC: NOLADE21SAWZweck: KellerbuschCup + Namen d. 
 Schützen\nDie Eintragung in die Starterliste erfolgt erst nach Zahlungsein
 gang auf dem o.a. Konto!Das Vorliegen einer Haftpflichtversicherung ist fü
 r jeden Schützen verpflichtend. http://www.gutshof-lindstedt.de/index.php/
 component/rseventspro/event/344-kopie-von-abgesagt-19-lindstedter-3d-bogen
 tunier-kellerbusch-cup?Itemid=101
DTSTART:20200502T090000Z
DTEND:20200502T180000Z
LOCATION:Kellerbusch ( \, Lindstedt \, Germany)
SUMMARY:Kopie von ABGESAGT! 19. Lindstedter 3D-Bogentunier 'Kellerbusch.Cup
 ' 
URL:http://www.gutshof-lindstedt.de/index.php/component/rseventspro/event/3
 44-kopie-von-abgesagt-19-lindstedter-3d-bogentunier-kellerbusch-cup?Itemid
 =101
END:VEVENT
END:VCALENDAR
