BEGIN:VCALENDAR
VERSION:2.0
PRODID:-//http://www.gutshof-lindstedt.de///NONSGML kigkonsult.se iCalcreator 2.10.15//
METHOD:PUBLISH
BEGIN:VEVENT
UID:20260419T200716CEST-5579JUdKIT@http://www.gutshof-lindstedt.de/
DTSTAMP:20260419T180716Z
DESCRIPTION:Du hast ein Hobby – eine Leidenschaft – ein Thema – d.h. es gib
 t da etwas\, dass dir am Herzen liegt?Und du möchtest dieses gerne mit and
 eren Menschen teilen und ihnen näherbringen? – sei es durch eine Ausstellu
 ng\, Vorträge\, praktische Workshops und und und ….\nDann laden wir Dich h
 erzlich zu unserem Gutshof-Macher-Tag auf den Gutshof Lindstedt ein. An di
 esem Tag möchten wir dir den Gutshof als Plattform zur Präsentation\, Verm
 ittlung\, Weitergabe etc. deines Hobbies\, deiner Leidenschaft usw. vorste
 llen – d.h. die zur Verfügung stehenden Räumlichkeiten und Außenflächen ze
 igen\, uns als Ansprechpartner und Partner vorstellen\, dir die Möglichkei
 t zum Austausch mit aktuellen und zukünftigen Gutshof-MacherInnen geben un
 d unser Rahmenkonzept für ein Bildungs- und Kulturprogramm präsentieren un
 d mit dir diskutieren.\nWenn du möchtest\, dann kannst du auch gerne Mater
 ialien\, Fotos\, eine Kurzpräsi oder ähnliches mitbringen\, um uns dein Ho
 bby\, deine Leidenschaft usw. vorzustellen.\nBei Fragen zur Veranstaltung 
 und Teilnahme kannst du uns gerne telefonisch (0163 – 825 3670) oder per E
 mail (post@gutshof-lindstedt.de) kontaktieren.Wir freuen uns auf deine Tei
 lnahme und darauf Dich kennenzulernen.\nZeitlicher Ablauf des Gutshof-Mach
 er-Tages&lt\;&lt\;&lt\; 13:00 Uhr &gt\;&gt\;&gt\; Begrüßung und kleiner Ru
 ndgang durch die Gebäude und über das Areal des Gutshofes&lt\;&lt\;&lt\; 1
 4:00 Uhr &gt\;&gt\;&gt\; Kurzvorstellung von aktuellen und zukünftigen Gut
 shof-MacherInnen&lt\;&lt\;&lt\; 15:00 Uhr &gt\;&gt\;&gt\; Präsentation des
  Konzeptentwurfs für ein Bildungs- und Kulturprogramm auf dem Gutshof Lind
 stedt sowie Austausch und Diskussion dazu&lt\;&lt\;&lt\; ca. 16:30 Uhr &gt
 \;&gt\;&gt\; Ende der Veranstaltung … bei Bedarf weitere Möglichkeiten zum
  Austausch … geselliger Ausklang …\n&nbsp\;\n&nbsp\;\nDie Entwicklung eine
 s Konzepts für ein Bildungs- und Kulturprogramm auf dem Gutshof Lindstedt 
 wird von der Europäischen Union und dem Land Sachsen-Anhalt im Raumen des 
 Europäischen Sozialfonds (ESF) gefördert.\n&nbsp\;\n http://www.gutshof-li
 ndstedt.de/index.php/component/rseventspro/event/346-gutshof-macher-tag?It
 emid=101
DTSTART:20220618T130000Z
DTEND:20220618T163000Z
LOCATION:Gutshof Lindstedt (Zum Lindengut 77 \, Gardelegen \, Germany)
SUMMARY:GUTSHOF - MACHER - TAG
URL:http://www.gutshof-lindstedt.de/index.php/component/rseventspro/event/3
 46-gutshof-macher-tag?Itemid=101
END:VEVENT
END:VCALENDAR
