BEGIN:VCALENDAR
VERSION:2.0
PRODID:-//http://www.gutshof-lindstedt.de///NONSGML kigkonsult.se iCalcreator 2.10.15//
METHOD:PUBLISH
BEGIN:VEVENT
UID:20260419T195527CEST-342808ZaOU@http://www.gutshof-lindstedt.de/
DTSTAMP:20260419T175527Z
DESCRIPTION:Illumination des Gutshofes durch 3D-Animationen von Visualimpre
 ssion\,musikalisch untermalt vom Cellisten Sonny Thet auf dem Gutshof ab A
 nbruch der Dämmerung und darüber hinaus ...\nRahmenprogramm &amp\; Drumher
 um\nIN DER FACHWERKSCHEUNE\, ab 14:00 Uhr:⚫ Sängertreffen des Sängerkreise
 s Heide-Drömling mit Bismarker Blaskapelle\n⚫ Galerie: Fotoausstellung (To
 m Przibilla) &amp\; Abstrakte Acrylmalerei (Johanna M. Thoms)\nIN DER KIRC
 HE\, um 18:00 Uhr:\n⚫ Konzert mit Tabiha Harzer &amp\; Jürgen Brilling „Al
 les hat seine Zeit“\nGUTSHOF - GUTSPARK - KIRCHE ... und dazwischen ... be
 i Anbruch der Dämmerung und darüber hinaus:\nKreative Lichtinszenierungen 
 zwischen Dorfkirche\, Gutshof und Gutspark (Studenten des Studiengangs Lan
 dschaftsarchitektur an der Hochschule Anhalt in Bernburg)\n&nbsp\;\n\nsowi
 e mit freundlicher Unterstützung durch:\n&nbsp\; http://www.gutshof-lindst
 edt.de/index.php/component/rseventspro/event/349-lichtbluetenfestival?Item
 id=101
DTSTART:20220910T140000Z
DTEND:20220910T235900Z
LOCATION:Gutshof Lindstedt (Zum Lindengut 77 \, Gardelegen \, Germany)
SUMMARY:Lichtblütenfestival
URL:http://www.gutshof-lindstedt.de/index.php/component/rseventspro/event/3
 49-lichtbluetenfestival?Itemid=101
END:VEVENT
END:VCALENDAR
