BEGIN:VCALENDAR
VERSION:2.0
PRODID:-//http://www.gutshof-lindstedt.de///NONSGML kigkonsult.se iCalcreator 2.10.15//
METHOD:PUBLISH
BEGIN:VEVENT
UID:20260419T195527CEST-0048jaUUSl@http://www.gutshof-lindstedt.de/
DTSTAMP:20260419T175527Z
DESCRIPTION:... mit Kathleen Rojahn.\n&nbsp\;\nInhalte des WorkshopsErarbei
 tung eines Schritt-für-Schritt-Anleitungsheftes\, viele praktische Anwendu
 ngen\, nützliche Informationen für die Weiterführung Zuhause und viele Ide
 en zu eigenen Projekten\n&nbsp\;\nAußerdem im Preis (s.u.) enthaltenAnleit
 ungsheft\, Papiere\, Federhalter und Feder\, Tusche\, all meine Liebe und 
 Erfahrungen rund um das Thema Kalligraphie sowie Getränke\, Kuchen und Sna
 cks für dein leibliches Wohl\n&nbsp\;\n&nbsp\;\nPreis: 159 Euro\n&nbsp\;\n
 Bei Fragen zu dem Workshop oder für eine Anmeldung wenden Sie sich an Kath
 leen Rojahn (Anmeldeschluss: 12.09.2022)\n\nTelefon: 0176/32404810\nE-Mail
 : kataligraphie@gmail.com\n\n\nZur Person - über Kathleen RojahnWenn eine 
 Schreibfeder eine Liaison mit Tusche eingeht und dann über Papier kratzt\,
  klingt das für Kathleen Rojahn wie Musik in den Ohren. Ihre Leidenschaft 
 zur Kalligraphie (dem 'Schönschreiben') hat sie 2014 entdeckt und erfreut 
 sich und andere seither mit schön geschriebenen Worten zu jedem Anlass. Li
 ebevoll gestaltete Einladungskarten\, Tisch- oder Danksagungskarten\, Gedi
 chte\, Liebesbriefe oder Grüße und Glückwünsche zu besonderen Anlässen fin
 den eine große Wertschätzung bei ihren Auftraggebern ebenso wie bei deren 
 Gästen. Handgemachtes wird wieder sehr geachtet. Daher gibt Kathleen Rojah
 n ihre Kenntnisse und ihre Liebe zu Feder\, Tusche und Papier auch in klei
 nen feinen Workshops weiter. In kreativer Runde bringt die Kalligraphin Me
 nschen ins Schreiben und ins Plaudern.Auf Instagram postet sie ihre Arbeit
 en unter dem Namen @kataligraphie. http://www.gutshof-lindstedt.de/index.p
 hp/component/rseventspro/event/351-workshop-fuer-moderne-kalligraphie?Item
 id=101
DTSTART:20220917T100000Z
DTEND:20220917T130000Z
LOCATION:Gutshof Lindstedt (Zum Lindengut 77 \, Gardelegen \, Germany)
SUMMARY:Workshop für Moderne Kalligraphie
URL:http://www.gutshof-lindstedt.de/index.php/component/rseventspro/event/3
 51-workshop-fuer-moderne-kalligraphie?Itemid=101
END:VEVENT
END:VCALENDAR
