BEGIN:VCALENDAR
VERSION:2.0
PRODID:-//http://www.gutshof-lindstedt.de///NONSGML kigkonsult.se iCalcreator 2.10.15//
METHOD:PUBLISH
BEGIN:VEVENT
UID:20260419T183210CEST-2765j433XV@http://www.gutshof-lindstedt.de/
DTSTAMP:20260419T163210Z
DESCRIPTION:+++ SAFT PRESSEN LASSEN +++11:00 bis 16:00 Uhr~ Apfelsaft aus d
 en eigenen Äpfeln pressen lassen ~Sie bringen Ihr Obst &gt\; Die mobile Mo
 sterei „Apfelkönig“ presst\, pasteurisiert\, füllt ab &gt\; Sie nehmenden 
 Saft aus ihrem Äpfeln gleich mit.Melden sie sich dazu vorher beim Apfelkön
 ig an:- Mobil: 0151 - 577 639 36- Tel: 039001 – 890016- E-Mail: info@apfel
 koenig.comWeitere Informationen zur mobilen Mosterei und dazu\, wie diese 
 aus ihren Äpfeln leckeren Apfelsaft presst\, finden sie unter:&nbsp\;www.a
 pfelkoenig.com\n&nbsp\;\n&nbsp\;\n+++ UVM. +++- Basteln mit Naturmateriale
 n für Jung und Alt- Für das leibliche Wohl ist gesorgt!\n\nTitelbild von c
 ongerdesign auf&nbsp\;Pixabay.com http://www.gutshof-lindstedt.de/index.ph
 p/component/rseventspro/event/359-lindstedter-appeldag-apfelsaft-pressen-l
 assen-uvm?Itemid=101
DTSTART:20231003T100000Z
DTEND:20231003T160000Z
LOCATION:Gutshof Lindstedt (Zum Lindengut 77 \, Gardelegen \, Germany)
SUMMARY:LINDSTEDTER APPELDAG - Apfelsaft pressen lassen - uvm.
URL:http://www.gutshof-lindstedt.de/index.php/component/rseventspro/event/3
 59-lindstedter-appeldag-apfelsaft-pressen-lassen-uvm?Itemid=101
END:VEVENT
END:VCALENDAR
