BEGIN:VCALENDAR
VERSION:2.0
PRODID:-//http://www.gutshof-lindstedt.de///NONSGML kigkonsult.se iCalcreator 2.10.15//
METHOD:PUBLISH
BEGIN:VEVENT
UID:20260419T183757CEST-9085ej34sJ@http://www.gutshof-lindstedt.de/
DTSTAMP:20260419T163757Z
DESCRIPTION:Wie jedes Jahr veranstalten wir das Adventskranz Binden im Ritt
 ersaal des Gutshauses in Lindstedt. Auf Strohrömer wird frisches Grün gebu
 nden und zusammen gestalten wir deinen individuellen Adventskranz aus. Ker
 zen können gern mitgebracht werden. Es sind auch Kerzen und Deko Materiali
 en vorhanden. Snacks und Getränke inklusive. Der Kurs geht über zwei Stund
 en und kostet 29 Euro für Erwachsene und 18 Euro für Kinder bis 16 Jahre.
 \nTERMIN: Sonntag\, 24.11..2024\, 11 Uhr bis 13 Uhr \nDie Teilnehmerzahl i
 st begrenzt. Der gemütliche Workshop findet im Rittersaal im Gutshaus stat
 t.\n&nbsp\;\nWenn ihr einen Tischkranz fertigen wollt bringt bitte eine Un
 terlage (Teller\, Tablett o.ä. mit) Der Workshop ist für Kinder ab 10 Jahr
 e geeignet. In den Teilnehmergebühren sind die Kosten für das erforderlich
 e Grundmaterial enthalten.\n+ + + ANMELDUNG + + + \nZur Anmeldung zum Work
 shop schreiben sie bitte eine E-Mail an floristae@posteo.de oder via Whata
 pp eine Nachricht an 0157-87395552 oder Sie melden Sich auf der folgenden 
 Internetseite zur Teilnahme am Workshop an: https://www.floristae.de/works
 hops/ .\n&nbsp\;\n+ + + FRAGEN + + +Sollten Sie Fragen zu dem Workshop hab
 en\, können Sie uns gerne per Email (floristae@posteo.de) oder Whatsapp (0
 157-87395552 ) kontaktieren. Wir beantworten ihre Fragen sehr gern. http:/
 /www.gutshof-lindstedt.de/index.php/component/rseventspro/event/370-advent
 skranzbinden-im-gutshaus1704-sonntag-24-11-2024-11-uhr-bis-13-uhr?Itemid=1
 01
DTSTART;VALUE=DATE:20241124
LOCATION:Gutshof Lindstedt (Zum Lindengut 77 \, Gardelegen \, Germany)
SUMMARY:AdventsKranzBinden im #Gutshaus1704 | Sonntag\, 24.11..2024\, 11 Uh
 r bis 13 Uhr 
URL:http://www.gutshof-lindstedt.de/index.php/component/rseventspro/event/3
 70-adventskranzbinden-im-gutshaus1704-sonntag-24-11-2024-11-uhr-bis-13-uhr
 ?Itemid=101
END:VEVENT
END:VCALENDAR
