BEGIN:VCALENDAR
VERSION:2.0
PRODID:-//http://www.gutshof-lindstedt.de///NONSGML kigkonsult.se iCalcreator 2.10.15//
METHOD:PUBLISH
BEGIN:VEVENT
UID:20260419T185220CEST-7678ULVBrn@http://www.gutshof-lindstedt.de/
DTSTAMP:20260419T165220Z
DESCRIPTION:Hiermit laden wir dich herzlich zum Workshop 'Kreiere Deine eig
 enen Ohrringe' mit Jaqueline ein.\nDie Teilnahmegebühr beträgt 35 €. Darin
  enthalten ist bereits das Material für 3 Modelle enthalten.\nFür weitere 
 Informationen und zur Anmeldung rufst du einfach Jaqueline an oder schreib
 st ihr eine Nachricht via Whatsapp (0173 - 4902 803).\nWir freuen uns auf 
 Deine Teilnahme und einen kreativen und gemütlichen Abend mit Dir! http://
 www.gutshof-lindstedt.de/index.php/component/rseventspro/event/371-zeit-fu
 er-dich-workshop-kreiere-deine-eigenen-ohrringe-am-26-11-2024-ab-18-30-uhr
 ?Itemid=101
DTSTART:20241126T183000Z
DTEND:20241126T203000Z
LOCATION:Gutshof Lindstedt (Zum Lindengut 77 \, Gardelegen \, Germany)
SUMMARY:Zeit für Dich: Workshop 'Kreiere deine eigenen Ohrringe' | am 26.11
 .2024 ab 18:30 Uhr
URL:http://www.gutshof-lindstedt.de/index.php/component/rseventspro/event/3
 71-zeit-fuer-dich-workshop-kreiere-deine-eigenen-ohrringe-am-26-11-2024-ab
 -18-30-uhr?Itemid=101
END:VEVENT
END:VCALENDAR
