BEGIN:VCALENDAR
VERSION:2.0
PRODID:-//http://www.gutshof-lindstedt.de///NONSGML kigkonsult.se iCalcreator 2.10.15//
METHOD:PUBLISH
BEGIN:VEVENT
UID:20260424T175940CEST-2576mBV6EJ@http://www.gutshof-lindstedt.de/
DTSTAMP:20260424T155940Z
DESCRIPTION:Mal was anderes! Es ist kaum zu glauben\, was man mit Papier so
  alles anstellen kann. Wir fertigen zusammen bunte Blumen und genießen die
  kreative Auszeit mit Leckereien vom Rietwiesenhof.\nTeilnahmegebühr: 29\,
 00 €+ + + ANMELDUNG + + + \nZur Anmeldung zum Workshop schreiben sie bitte
  eine E-Mail an floristae@posteo.de oder Sie melden Sich auf der folgenden
  Internetseite zur Teilnahme an: https://www.floristae.de/workshops/ .\n&n
 bsp\;\n+ + + FRAGEN + + +Sollten Sie Fragen zu dem Workshop haben\, können
  Sie uns gerne per Email (floristae@posteo.de)&nbsp\; kontaktieren. Wir be
 antworten ihre Fragen sehr gern. http://www.gutshof-lindstedt.de/index.php
 /component/rseventspro/event/377-workshop-papierblumen-mit-floristae?Itemi
 d=101
DTSTART:20250330T110000Z
DTEND:20250330T140000Z
LOCATION:Gutshof Lindstedt (Zum Lindengut 77 \, Gardelegen \, Germany)
SUMMARY:Workshop: Papierblumen [ mit Floristae ]
URL:http://www.gutshof-lindstedt.de/index.php/component/rseventspro/event/3
 77-workshop-papierblumen-mit-floristae?Itemid=101
END:VEVENT
END:VCALENDAR
