BEGIN:VCALENDAR
VERSION:2.0
PRODID:-//http://www.gutshof-lindstedt.de///NONSGML kigkonsult.se iCalcreator 2.10.15//
METHOD:PUBLISH
BEGIN:VEVENT
UID:20260419T185256CEST-9462bPOSVV@http://www.gutshof-lindstedt.de/
DTSTAMP:20260419T165256Z
DESCRIPTION:Die Region Lindstedt lädt Euch herzlich zum Adventsmarkt in die
  rustikal-liebevoll gestaltete heimelige #Fachwerkscheune1788 auf dem Guts
 hof Lindstedt ein. Die Programmpunkte# Laien-Schauspiel 'Der Froschkönig'#
  Männerchor &amp\; Jagdhornbläser aus Lindstedt# LiveMusik mit Tick2Loud# 
 Lindstedter Kindertanzgruppen# Wunschzettelwichtel und Bastelstube im&nbsp
 \;#Gutshaus1704# Reiten und Spiel &amp\; Spass auf dem Gutshof# Weihnachtl
 iches Fotoshooting im Torhaus# FeuerakrobatikWie immer wird es bei diesem 
 gesellig-heimeligen Highlight eine Menge Kultur geben und es werden ausgew
 ählte\, regionale Verkaufsstände auf dem ◦M◦A◦R◦K◦T◦ ◦D◦E◦R◦ ◦S◦C◦H◦Ö◦N◦E◦
 N◦ ◦D◦I◦N◦G◦E◦ vor Ort sein (Geschenke\, Floristik\, Handwerk\, Accessoire
 s u.v.m.).Allerlei leckere Speisen und Getränke sorgen fürs leibliche Wohl
  und runden die Veranstaltung ab. Wir freuen uns auf einen schönen Nachmit
 tag und Abend\, um gemeinsam mit Euch in die Adventszeit zu starten!\n\n#A
 dvent | #Adventsmarkt #Fachwerkscheune1788 | #Gutshof_Lindstedt | #Lindste
 dt | #Region_Lindstedt | #Gardelegen | #Altmark http://www.gutshof-lindste
 dt.de/index.php/component/rseventspro/event/386-12-lindstedter-adventsmark
 t-auf-dem-gutshof-lindstedt?Itemid=101
DTSTART:20251129T150000Z
DTEND:20251129T220000Z
LOCATION:Gutshof Lindstedt (Zum Lindengut 77 \, Gardelegen \, Germany)
SUMMARY:12. Lindstedter Adventsmarkt auf dem Gutshof Lindstedt
URL:http://www.gutshof-lindstedt.de/index.php/component/rseventspro/event/3
 86-12-lindstedter-adventsmarkt-auf-dem-gutshof-lindstedt?Itemid=101
END:VEVENT
END:VCALENDAR
