BEGIN:VCALENDAR
VERSION:2.0
PRODID:-//http://www.gutshof-lindstedt.de///NONSGML kigkonsult.se iCalcreator 2.10.15//
METHOD:PUBLISH
BEGIN:VEVENT
UID:20260419T182942CEST-5637VdKeZb@http://www.gutshof-lindstedt.de/
DTSTAMP:20260419T162942Z
DESCRIPTION: http://www.gutshof-lindstedt.de/index.php/component/rseventspr
 o/event/389-malen-mit-aquarelltechnik-mit-martina-reimann?Itemid=101
DTSTART:20260322T100000Z
DTEND:20260322T130000Z
LOCATION:Gutshof Lindstedt (Zum Lindengut 77 \, Gardelegen \, Germany)
SUMMARY:Malen mit Aquarelltechnik (mit Martina Reimann)
URL:http://www.gutshof-lindstedt.de/index.php/component/rseventspro/event/3
 89-malen-mit-aquarelltechnik-mit-martina-reimann?Itemid=101
END:VEVENT
END:VCALENDAR
